BEGIN:VCALENDAR
VERSION:2.0
PRODID:-//OutHounds Adventure and Training Academy - ECPv6.15.20//NONSGML v1.0//EN
CALSCALE:GREGORIAN
METHOD:PUBLISH
X-ORIGINAL-URL:https://outhoundsadventureacademy.com
X-WR-CALDESC:Events for OutHounds Adventure and Training Academy
REFRESH-INTERVAL;VALUE=DURATION:PT1H
X-Robots-Tag:noindex
X-PUBLISHED-TTL:PT1H
BEGIN:VTIMEZONE
TZID:UTC
BEGIN:STANDARD
TZOFFSETFROM:+0000
TZOFFSETTO:+0000
TZNAME:UTC
DTSTART:20210101T000000
END:STANDARD
END:VTIMEZONE
BEGIN:VTIMEZONE
TZID:America/New_York
BEGIN:DAYLIGHT
TZOFFSETFROM:-0500
TZOFFSETTO:-0400
TZNAME:EDT
DTSTART:20220313T070000
END:DAYLIGHT
BEGIN:STANDARD
TZOFFSETFROM:-0400
TZOFFSETTO:-0500
TZNAME:EST
DTSTART:20221106T060000
END:STANDARD
BEGIN:DAYLIGHT
TZOFFSETFROM:-0500
TZOFFSETTO:-0400
TZNAME:EDT
DTSTART:20230312T070000
END:DAYLIGHT
BEGIN:STANDARD
TZOFFSETFROM:-0400
TZOFFSETTO:-0500
TZNAME:EST
DTSTART:20231105T060000
END:STANDARD
BEGIN:DAYLIGHT
TZOFFSETFROM:-0500
TZOFFSETTO:-0400
TZNAME:EDT
DTSTART:20240310T070000
END:DAYLIGHT
BEGIN:STANDARD
TZOFFSETFROM:-0400
TZOFFSETTO:-0500
TZNAME:EST
DTSTART:20241103T060000
END:STANDARD
END:VTIMEZONE
BEGIN:VEVENT
DTSTART;TZID=UTC:20221025T190000
DTEND;TZID=UTC:20221025T200000
DTSTAMP:20260420T230009
CREATED:20221021T160851Z
LAST-MODIFIED:20230218T230737Z
UID:8649-1666724400-1666728000@outhoundsadventureacademy.com
SUMMARY:Adventure Manners 1
DESCRIPTION:Our signature\, rolling enrollment leveled Adventure Manners courses are a great way to help you not only learn the foundational skills necessary for whatever adventures life has to offer\, but to also always continue to grow and learn and achieve new goals. Each class session stands on its own\, so they can be taken in any order! \nYou can either sign up for 1 session at a time or buy bundles of 4 or 6 at a time. Continue to come and learn new skills\, take on new challenges\, and your dog AND you will earn Merit Badges for your accomplishments along the way! As you advance through the courses and learn new skills\, the open leveled classes will give you an opportunity to continue to learn with our trainers (and your peers!) \nClasses are held at the Paws N Play Doggy Daycare on 562 Reed Road in Dartmouth (unless otherwise specified!) \n\nRegistration: https://OutHounds.as.me/AdventureManners1
URL:https://outhoundsadventureacademy.com/event/adventure-manners-1/
LOCATION:Paws N Play\, 562 Reed Road\, Dartmouth\, MA\, 02740\, United States
CATEGORIES:Group Training Class
ATTACH;FMTTYPE=image/png:https://outhoundsadventureacademy.com/wp-content/uploads/2022/10/mannersclasslogo-1.png
END:VEVENT
BEGIN:VEVENT
DTSTART;TZID=UTC:20230108T100000
DTEND;TZID=UTC:20230108T113000
DTSTAMP:20260420T230009
CREATED:20230103T203159Z
LAST-MODIFIED:20230104T014319Z
UID:10555-1673172000-1673177400@outhoundsadventureacademy.com
SUMMARY:Buzzards Bay Coalition Standard Adventure: The Bogs
DESCRIPTION:This session: \nThe Bogs\n\nThe Bogs has been a long time favorite destination for the Adventure Club\, and it is even more exciting now that OHAC is collaborating with the Buzzards Bay Coalition! The predominantly flat and open trails are great for the beginning hiker\, yet the beauty can be appreciated by all! Adventure Guide Tim does like to lead the group into the forest trail\, which does boast a mild incline and some tricky footing\, depending on the flood stage of the subsequent swamp. Although\, even if we have to double back or risk the dryness of our socks\, we always have a great time out here. (Check out our pictures from the spring!) This a great trail for just getting yourself (and your dog!) OUT and reconnecting with nature. Expect about 3-4 miles of hiking on our standard adventure! \n  \n*While our Standard Adventures are always free\, we encourage you to donate here: https://www.savebuzzardsbay.org/take-action/donate… \n**Adventures are typically held rain or shine. Please check Facebook\, Instagram and emails for severe weather cancellations.** \nTerrain: Mostly flat\, Can become easily flooded.  Does allow hunting in season.\n\nYou need: Proper footwear.  Bright colors recommended.  Water and a snack.  \nYour Dog needs: Properly fitting harness\, water and snacks.  \nParking: Small dirt lot. \nRegistration: https://www.savebuzzardsbay.org/bay-adventures/outhound-adventure-hike/
URL:https://outhoundsadventureacademy.com/event/buzzards-bay-coalition-standard-adventure-the-bogs-2/
LOCATION:The Bogs\, 138 Acushnet Road\, Mattapoisett\, MA\, 02739
CATEGORIES:Adventure Club
ATTACH;FMTTYPE=image/jpeg:https://outhoundsadventureacademy.com/wp-content/uploads/2022/10/buzzardsbaycoallition.jpg
END:VEVENT
BEGIN:VEVENT
DTSTART;TZID=UTC:20221025T190000
DTEND;TZID=UTC:20221025T200000
DTSTAMP:20260420T230009
CREATED:20221021T160851Z
LAST-MODIFIED:20230218T230737Z
UID:8649-1666724400-1666728000@outhoundsadventureacademy.com
SUMMARY:Adventure Manners 1
DESCRIPTION:Our signature\, rolling enrollment leveled Adventure Manners courses are a great way to help you not only learn the foundational skills necessary for whatever adventures life has to offer\, but to also always continue to grow and learn and achieve new goals. Each class session stands on its own\, so they can be taken in any order! \nYou can either sign up for 1 session at a time or buy bundles of 4 or 6 at a time. Continue to come and learn new skills\, take on new challenges\, and your dog AND you will earn Merit Badges for your accomplishments along the way! As you advance through the courses and learn new skills\, the open leveled classes will give you an opportunity to continue to learn with our trainers (and your peers!) \nClasses are held at the Paws N Play Doggy Daycare on 562 Reed Road in Dartmouth (unless otherwise specified!) \n\nRegistration: https://OutHounds.as.me/AdventureManners1
URL:https://outhoundsadventureacademy.com/event/adventure-manners-1/
LOCATION:Paws N Play\, 562 Reed Road\, Dartmouth\, MA\, 02740\, United States
CATEGORIES:Group Training Class
ATTACH;FMTTYPE=image/png:https://outhoundsadventureacademy.com/wp-content/uploads/2022/10/mannersclasslogo-1.png
END:VEVENT
BEGIN:VEVENT
DTSTART;TZID=America/New_York:20230114T090000
DTEND;TZID=America/New_York:20230114T110000
DTSTAMP:20260420T230009
CREATED:20230103T210950Z
LAST-MODIFIED:20230104T014312Z
UID:10564-1673686800-1673694000@outhoundsadventureacademy.com
SUMMARY:Standard Adventure - Cornell Farm
DESCRIPTION:This Session: Cornell Farm\nRepeat Adventurers will be familiar with part of this trail\, as DNRT’s Little River Reserve was our inaugural adventure! This time\, however\, we will be beginning our adventure on the other end of the reserve on Trustee’s of the Reservations Cornell Farm. The Farm portion is a predominantly flat trail which can become VERY muddy in the beginning in rain or thaw. We will meander our way thru to the beautiful board walks that allow visitors to pass thru salt marsh. There are moments of uneven footing and sleight inclines. Expect about 4-5 miles of hiking on our standard adventure! \n \n**Adventures are held rain or shine.** \nTerrain: Mostly flat\, wooden board walks\, marsh\n\nYou need: Proper footwear.  Water and a snack. Signed Release Form. \nYour Dog needs: Properly fitting harness\, water and snacks.  \nParking: Dirt lot.  \nGREEN BLAZE Standard Adventure \nRegistration: https://OutHounds.as.me/?appointmentType=40177353 \n 
URL:https://outhoundsadventureacademy.com/event/standard-adventure-cornell-farm-3/
LOCATION:Cornell Farm\, 520 Smith Neck Rd\, South Dartmouth\, MA\, 02748
CATEGORIES:Adventure Club
ATTACH;FMTTYPE=image/png:https://outhoundsadventureacademy.com/wp-content/uploads/2022/08/cropped-ohlogo7nobackground.png
END:VEVENT
BEGIN:VEVENT
DTSTART;TZID=America/New_York:20230115T093000
DTEND;TZID=America/New_York:20230115T110000
DTSTAMP:20260420T230010
CREATED:20230103T205929Z
LAST-MODIFIED:20230108T022838Z
UID:10559-1673775000-1673780400@outhoundsadventureacademy.com
SUMMARY:Dr. Martin Luther King Hike - Historic New Bedford
DESCRIPTION:This session: \nHistoric New Bedford \nWhile OutHounds Adventure & Training Academy’s Adventure Club typically traverses our more remote and wooded areas\, we do like to gather in more populous locales once in a while and have an “Urban Adventure!” We couldn’t think of a better time\, then to celebrate Dr. Martin Luther King. Come join Adventure Club on this Urban Adventure Hike to commemorate his legacy by walking New Bedford’s Black History Trail. Starting at Pier 3 on the New Bedford waterfront\, we will follow the Trail as meticulously curated by the New Bedford Historical Society. Our path will lead us to Buttonwood Park and back again! \nAt each location\, we will read and learn a little bit about the rich history along the way. If you want to learn more\, we encourage you to check out the New Bedford Historical Society’s website: \nhttps://nbhistoricalsociety.org/historic-trails/  \n  \nRegistration: https://OutHounds.as.me/?appointmentType=40176454
URL:https://outhoundsadventureacademy.com/event/dr-martin-luther-king-hike-historic-new-bedford/
LOCATION:Pier 3 – New Bedford\, 51 MacArthur Dr\, New Bedford\, MA\, 02740\, United States
CATEGORIES:Adventure Club
ATTACH;FMTTYPE=image/jpeg:https://outhoundsadventureacademy.com/wp-content/uploads/2023/01/stsmall507x507-pad600x600f8f8f8u7.jpg
END:VEVENT
BEGIN:VEVENT
DTSTART;TZID=UTC:20221025T190000
DTEND;TZID=UTC:20221025T200000
DTSTAMP:20260420T230010
CREATED:20221021T160851Z
LAST-MODIFIED:20230218T230737Z
UID:8649-1666724400-1666728000@outhoundsadventureacademy.com
SUMMARY:Adventure Manners 1
DESCRIPTION:Our signature\, rolling enrollment leveled Adventure Manners courses are a great way to help you not only learn the foundational skills necessary for whatever adventures life has to offer\, but to also always continue to grow and learn and achieve new goals. Each class session stands on its own\, so they can be taken in any order! \nYou can either sign up for 1 session at a time or buy bundles of 4 or 6 at a time. Continue to come and learn new skills\, take on new challenges\, and your dog AND you will earn Merit Badges for your accomplishments along the way! As you advance through the courses and learn new skills\, the open leveled classes will give you an opportunity to continue to learn with our trainers (and your peers!) \nClasses are held at the Paws N Play Doggy Daycare on 562 Reed Road in Dartmouth (unless otherwise specified!) \n\nRegistration: https://OutHounds.as.me/AdventureManners1
URL:https://outhoundsadventureacademy.com/event/adventure-manners-1/
LOCATION:Paws N Play\, 562 Reed Road\, Dartmouth\, MA\, 02740\, United States
CATEGORIES:Group Training Class
ATTACH;FMTTYPE=image/png:https://outhoundsadventureacademy.com/wp-content/uploads/2022/10/mannersclasslogo-1.png
END:VEVENT
BEGIN:VEVENT
DTSTART;TZID=America/New_York:20230121T090000
DTEND;TZID=America/New_York:20230121T110000
DTSTAMP:20260420T230010
CREATED:20230103T212234Z
LAST-MODIFIED:20230107T181016Z
UID:10569-1674291600-1674298800@outhoundsadventureacademy.com
SUMMARY:DNRT Adventure - Ridge Hill Reserve - Standard Adventure
DESCRIPTION:This session: \nRidge Hill\n\nRidge Hill will live in OHAC lore for all time as our second ever hike brought quite the adventure! One of the neighborhood cattle made one of their all to frequent trips out of his paddock and down to the Ridge Hill parking lot just as we were shoving off! As we said then\, sometimes you seek adventure and sometimes adventure finds you! \nRidge Hill also happens to be one of Adventure Tadhg’s favorite DNRT trails\, but don’t advertise that too much or else everyone will start going there! Let’s save this gem for the Adventure Club! Path’s here are well cared for by volunteers and offer a little challenge for everyone. There are some steeper inclines and some rocks and roots that make for some tricky footing (especially closer to the reservoir). Expect about 4-5 miles of hiking on our standard adventure!  \n**Adventures are held rain or shine.** \nTerrain: Some rocky\, hilly terrain. Parts are rooted and slick. \nYou need: Proper footwear.  Water and a snack.  \nYour Dog needs: Properly fitting harness\, water and snacks.  \nParking: Small Dirt Lot. Street-side overflow.\ \nRegistration: https://OutHounds.as.me/?appointmentType=40177845
URL:https://outhoundsadventureacademy.com/event/dnrt-adventure-ridge-hill-reserve-standard-adventure/
LOCATION:Ridge Hill\, 580 Collins Corner Rd\, Dartmouth\, MA\, 02747\, United States
CATEGORIES:Adventure Club
ATTACH;FMTTYPE=image/jpeg:https://outhoundsadventureacademy.com/wp-content/uploads/2022/11/dnrt-logo-full-140.jpg
END:VEVENT
BEGIN:VEVENT
DTSTART;TZID=UTC:20221025T190000
DTEND;TZID=UTC:20221025T200000
DTSTAMP:20260420T230010
CREATED:20221021T160851Z
LAST-MODIFIED:20230218T230737Z
UID:8649-1666724400-1666728000@outhoundsadventureacademy.com
SUMMARY:Adventure Manners 1
DESCRIPTION:Our signature\, rolling enrollment leveled Adventure Manners courses are a great way to help you not only learn the foundational skills necessary for whatever adventures life has to offer\, but to also always continue to grow and learn and achieve new goals. Each class session stands on its own\, so they can be taken in any order! \nYou can either sign up for 1 session at a time or buy bundles of 4 or 6 at a time. Continue to come and learn new skills\, take on new challenges\, and your dog AND you will earn Merit Badges for your accomplishments along the way! As you advance through the courses and learn new skills\, the open leveled classes will give you an opportunity to continue to learn with our trainers (and your peers!) \nClasses are held at the Paws N Play Doggy Daycare on 562 Reed Road in Dartmouth (unless otherwise specified!) \n\nRegistration: https://OutHounds.as.me/AdventureManners1
URL:https://outhoundsadventureacademy.com/event/adventure-manners-1/
LOCATION:Paws N Play\, 562 Reed Road\, Dartmouth\, MA\, 02740\, United States
CATEGORIES:Group Training Class
ATTACH;FMTTYPE=image/png:https://outhoundsadventureacademy.com/wp-content/uploads/2022/10/mannersclasslogo-1.png
END:VEVENT
BEGIN:VEVENT
DTSTART;TZID=America/New_York:20230128T090000
DTEND;TZID=America/New_York:20230128T110000
DTSTAMP:20260420T230010
CREATED:20230103T213137Z
LAST-MODIFIED:20230118T213712Z
UID:10574-1674896400-1674903600@outhoundsadventureacademy.com
SUMMARY:Fighting Rock Corner - Blaze Orange Adventure
DESCRIPTION:This Session:\nFighting Rock Corner\n\nWhen Adventure Tadhg first moved to Southcoast Massachusetts\, this state forest was an amazing discovery. Boasting miles of trails and fire roads; you could easily spend days exploring all of its nooks and crannies! Being an outsider\, he was unaware of Freetown Forest’s mystical legends\, and even now\, Adventure Club has come up short in our endless pursuit of the elusive Pukwudgie! \n\nFighting Rock Corner has often been one of his primary launching points for his own adventures–and he is excited to share it with OHAC! Let us take you on an exciting Adventure! \n\n“Two roads diverged in a wood\, and I—\nI took the one less traveled by\,\nAnd that has made all the difference.”\n\n\nExpect about 4-5 miles of hiking on our standard adventure!\n\n**Adventures are held rain or shine.** \nTerrain: Begins with long consistent incline.  Path can be flooded in parts. A couple of short\, but slippery inclines/ declines\, Footing can be tricky in parts\n\nYou need: Proper footwear.  Water and a snack. Signed Release Form. \nYour Dog needs: Properly fitting harness\, water and snacks.  \nParking: Street-side.  \nBlaze ORANGE Adventure \nRegistration: https://OutHounds.as.me/?appointmentType=40178107 \n 
URL:https://outhoundsadventureacademy.com/event/fighting-rock-corner-blaze-orange-adventure/
LOCATION:Fighting Rock Corner\, 41.735149\, -71.090127
CATEGORIES:Adventure Club
ATTACH;FMTTYPE=image/png:https://outhoundsadventureacademy.com/wp-content/uploads/2022/09/ohlogo7nobackground-e1663900530973.png
END:VEVENT
BEGIN:VEVENT
DTSTART;TZID=UTC:20230129T100000
DTEND;TZID=UTC:20230129T113000
DTSTAMP:20260420T230010
CREATED:20230103T203830Z
LAST-MODIFIED:20230103T203830Z
UID:10557-1674986400-1674991800@outhoundsadventureacademy.com
SUMMARY:Buzzards Bay Coalition Standard Adventure: The Bogs
DESCRIPTION:This session: \nThe Bogs\n\nThe Bogs has been a long time favorite destination for the Adventure Club\, and it is even more exciting now that OHAC is collaborating with the Buzzards Bay Coalition! The predominantly flat and open trails are great for the beginning hiker\, yet the beauty can be appreciated by all! Adventure Guide Tim does like to lead the group into the forest trail\, which does boast a mild incline and some tricky footing\, depending on the flood stage of the subsequent swamp. Although\, even if we have to double back or risk the dryness of our socks\, we always have a great time out here. (Check out our pictures from the spring!) This a great trail for just getting yourself (and your dog!) OUT and reconnecting with nature. Expect about 3-4 miles of hiking on our standard adventure! \n  \n*While our Standard Adventures are always free\, we encourage you to donate here: https://www.savebuzzardsbay.org/take-action/donate… \n**Adventures are typically held rain or shine. Please check Facebook\, Instagram and emails for severe weather cancellations.** \nTerrain: Mostly flat\, Can become easily flooded.  Does allow hunting in season.\n\nYou need: Proper footwear.  Bright colors recommended.  Water and a snack.  \nYour Dog needs: Properly fitting harness\, water and snacks.  \nParking: Small dirt lot. \nRegistration: https://www.savebuzzardsbay.org/bay-adventures/outhound-adventure-hike/
URL:https://outhoundsadventureacademy.com/event/buzzards-bay-coalition-standard-adventure-the-bogs-3/
LOCATION:The Bogs\, 138 Acushnet Road\, Mattapoisett\, MA\, 02739
CATEGORIES:Adventure Club
ATTACH;FMTTYPE=image/jpeg:https://outhoundsadventureacademy.com/wp-content/uploads/2022/10/buzzardsbaycoallition.jpg
END:VEVENT
BEGIN:VEVENT
DTSTART;TZID=UTC:20221025T190000
DTEND;TZID=UTC:20221025T200000
DTSTAMP:20260420T230010
CREATED:20221021T160851Z
LAST-MODIFIED:20230218T230737Z
UID:8649-1666724400-1666728000@outhoundsadventureacademy.com
SUMMARY:Adventure Manners 1
DESCRIPTION:Our signature\, rolling enrollment leveled Adventure Manners courses are a great way to help you not only learn the foundational skills necessary for whatever adventures life has to offer\, but to also always continue to grow and learn and achieve new goals. Each class session stands on its own\, so they can be taken in any order! \nYou can either sign up for 1 session at a time or buy bundles of 4 or 6 at a time. Continue to come and learn new skills\, take on new challenges\, and your dog AND you will earn Merit Badges for your accomplishments along the way! As you advance through the courses and learn new skills\, the open leveled classes will give you an opportunity to continue to learn with our trainers (and your peers!) \nClasses are held at the Paws N Play Doggy Daycare on 562 Reed Road in Dartmouth (unless otherwise specified!) \n\nRegistration: https://OutHounds.as.me/AdventureManners1
URL:https://outhoundsadventureacademy.com/event/adventure-manners-1/
LOCATION:Paws N Play\, 562 Reed Road\, Dartmouth\, MA\, 02740\, United States
CATEGORIES:Group Training Class
ATTACH;FMTTYPE=image/png:https://outhoundsadventureacademy.com/wp-content/uploads/2022/10/mannersclasslogo-1.png
END:VEVENT
END:VCALENDAR