BEGIN:VCALENDAR
VERSION:2.0
PRODID:-//OutHounds Adventure and Training Academy - ECPv6.15.20//NONSGML v1.0//EN
CALSCALE:GREGORIAN
METHOD:PUBLISH
X-ORIGINAL-URL:https://outhoundsadventureacademy.com
X-WR-CALDESC:Events for OutHounds Adventure and Training Academy
REFRESH-INTERVAL;VALUE=DURATION:PT1H
X-Robots-Tag:noindex
X-PUBLISHED-TTL:PT1H
BEGIN:VTIMEZONE
TZID:America/New_York
BEGIN:DAYLIGHT
TZOFFSETFROM:-0500
TZOFFSETTO:-0400
TZNAME:EDT
DTSTART:20220313T070000
END:DAYLIGHT
BEGIN:STANDARD
TZOFFSETFROM:-0400
TZOFFSETTO:-0500
TZNAME:EST
DTSTART:20221106T060000
END:STANDARD
BEGIN:DAYLIGHT
TZOFFSETFROM:-0500
TZOFFSETTO:-0400
TZNAME:EDT
DTSTART:20230312T070000
END:DAYLIGHT
BEGIN:STANDARD
TZOFFSETFROM:-0400
TZOFFSETTO:-0500
TZNAME:EST
DTSTART:20231105T060000
END:STANDARD
BEGIN:DAYLIGHT
TZOFFSETFROM:-0500
TZOFFSETTO:-0400
TZNAME:EDT
DTSTART:20240310T070000
END:DAYLIGHT
BEGIN:STANDARD
TZOFFSETFROM:-0400
TZOFFSETTO:-0500
TZNAME:EST
DTSTART:20241103T060000
END:STANDARD
END:VTIMEZONE
BEGIN:VEVENT
DTSTART;TZID=America/New_York:20231210T093000
DTEND;TZID=America/New_York:20231210T113000
DTSTAMP:20260420T171141
CREATED:20231205T034914Z
LAST-MODIFIED:20231205T035527Z
UID:11390-1702200600-1702207800@outhoundsadventureacademy.com
SUMMARY:Standard Adventure: Quanapoag Road (West Side)
DESCRIPTION:This session: \nQuanapoag Road (West) \n***DO NOT ATTEMPT TO DRIVE DOWN QUANAPOAG ROAD. IT IS VERY TREACHEROUS. PLEASE FOLLOW ROUTES THAT TAKE YOU VIA HIXVILLE TO COPICUT ROAD.*** \nThe West End of Quanapoag Road gives Adventure Club yet another launching point into the vast network of forest trails that make up Freetown-Fall River State Forest.  This section is actually part of the SE Mass Bioreserve and skirts alongside the Copicut Rifle Club and active hunting areas. This location gives OHAC several options as far as routes: either hugging the East Side of the Copicut Reservoir before hooking nearly into Ridge Hill OR venturing Northwest.  \nThis is one of Adventure Tadhg’s personal favorites when heading out for one of his own adventures due to varied terrain and interesting trails–and he is excited to share it with OHAC! Let us take you on an exciting Adventure!   \nExpect about 4-5 miles of hiking on our standard adventure!  \n**Adventures are typically held rain or shine. Please check Facebook\, Instagram and emails for severe weather cancellations.** \nTerrain: The initial part of the trail begins with a steep and loose rock incline making for precarious footing. Fire roads can become easily flooded—particularly on the return trip.\n\nYou need: Proper footwear. This area allows hunting and bright colors are highly recommended.  Water and a snack. Signed Release Form. \nYour Dog needs: Properly fitting harness\, leash\, poop bags\, water\, and snacks.  \nParking: Street-side. \nRegistration: https://OutHounds.as.me/quanapoagroadwest \n***DO NOT ATTEMPT TO DRIVE DOWN QUANAPOAG ROAD. IT IS VERY TREACHEROUS. PLEASE FOLLOW ROUTES THAT TAKE YOU VIA HIXVILLE TO COPICUT ROAD.***
URL:https://outhoundsadventureacademy.com/event/standard-adventure-quanapoag-road-west-side/
LOCATION:quanapoag road (west)\, 41.722088\, -71.044661
CATEGORIES:Adventure Club
ATTACH;FMTTYPE=image/png:https://outhoundsadventureacademy.com/wp-content/uploads/2023/11/AdventureClubSymbol.png
END:VEVENT
END:VCALENDAR