BEGIN:VCALENDAR
VERSION:2.0
PRODID:-//OutHounds Adventure and Training Academy - ECPv6.15.20//NONSGML v1.0//EN
CALSCALE:GREGORIAN
METHOD:PUBLISH
X-WR-CALNAME:OutHounds Adventure and Training Academy
X-ORIGINAL-URL:https://outhoundsadventureacademy.com
X-WR-CALDESC:Events for OutHounds Adventure and Training Academy
REFRESH-INTERVAL;VALUE=DURATION:PT1H
X-Robots-Tag:noindex
X-PUBLISHED-TTL:PT1H
BEGIN:VTIMEZONE
TZID:America/New_York
BEGIN:DAYLIGHT
TZOFFSETFROM:-0500
TZOFFSETTO:-0400
TZNAME:EDT
DTSTART:20220313T070000
END:DAYLIGHT
BEGIN:STANDARD
TZOFFSETFROM:-0400
TZOFFSETTO:-0500
TZNAME:EST
DTSTART:20221106T060000
END:STANDARD
BEGIN:DAYLIGHT
TZOFFSETFROM:-0500
TZOFFSETTO:-0400
TZNAME:EDT
DTSTART:20230312T070000
END:DAYLIGHT
BEGIN:STANDARD
TZOFFSETFROM:-0400
TZOFFSETTO:-0500
TZNAME:EST
DTSTART:20231105T060000
END:STANDARD
BEGIN:DAYLIGHT
TZOFFSETFROM:-0500
TZOFFSETTO:-0400
TZNAME:EDT
DTSTART:20240310T070000
END:DAYLIGHT
BEGIN:STANDARD
TZOFFSETFROM:-0400
TZOFFSETTO:-0500
TZNAME:EST
DTSTART:20241103T060000
END:STANDARD
END:VTIMEZONE
BEGIN:VEVENT
DTSTART;TZID=America/New_York:20230820T093000
DTEND;TZID=America/New_York:20230820T113000
DTSTAMP:20260425T134153
CREATED:20230817T234706Z
LAST-MODIFIED:20230818T000024Z
UID:11274-1692523800-1692531000@outhoundsadventureacademy.com
SUMMARY:Trustees of Reservations Adventure: Hales Brook
DESCRIPTION:This session: \nEast Over Reservation/ Hales Brook \nFor Adventure Club originals\, you may recall Hales Brook as one of the first Adventures baby Adventure Zip participated in her backpack. (We teach Adventure young around here!) It is wonderful property\, that has a little bit of everything: forest trails\, bogs\, rock outcroppings\, river views. It is a relatively flat property\, but has some tricky footing in spots. It is a nice little sanctuary that you may easily drive past! \n  \n**Adventures are held rain or shine.** \nTerrain: Mostly flat\, Some roots and inclines. Grassy bog areas\n\nYou need: Proper footwear.  Water and a snack. A backpack is encouraged \nYour Dog needs: Properly fitting harness\, flat leash\, poop bags\, water\, and snacks. \nParking: Dirt lot.  \nCost: Pay as you wish! ($0 minimum) \nRegistration: https://OutHounds.as.me/thetrusteeshalesbrook
URL:https://outhoundsadventureacademy.com/event/trustees-of-reservations-adventure-hales-brook/
LOCATION:East Over Reservation: Hales Brook\, 41.743111\, -70.778111
CATEGORIES:Adventure Club
ATTACH;FMTTYPE=image/jpeg:https://outhoundsadventureacademy.com/wp-content/uploads/2023/08/trusteeslogo.jpg
END:VEVENT
END:VCALENDAR