BEGIN:VCALENDAR
VERSION:2.0
PRODID:-//OutHounds Adventure and Training Academy - ECPv6.15.20//NONSGML v1.0//EN
CALSCALE:GREGORIAN
METHOD:PUBLISH
X-WR-CALNAME:OutHounds Adventure and Training Academy
X-ORIGINAL-URL:https://outhoundsadventureacademy.com
X-WR-CALDESC:Events for OutHounds Adventure and Training Academy
REFRESH-INTERVAL;VALUE=DURATION:PT1H
X-Robots-Tag:noindex
X-PUBLISHED-TTL:PT1H
BEGIN:VTIMEZONE
TZID:UTC
BEGIN:STANDARD
TZOFFSETFROM:+0000
TZOFFSETTO:+0000
TZNAME:UTC
DTSTART:20220101T000000
END:STANDARD
END:VTIMEZONE
BEGIN:VEVENT
DTSTART;TZID=UTC:20230506T093000
DTEND;TZID=UTC:20230506T123000
DTSTAMP:20260425T152451
CREATED:20190806T164306Z
LAST-MODIFIED:20230502T120135Z
UID:6441-1683365400-1683376200@outhoundsadventureacademy.com
SUMMARY:Standard Adventure+: Myles Standish State Park
DESCRIPTION:This session:\nMyles Standish \nMyles Standish State Park’s Pine Barrens trail is an OutHounds favorite. This is a challenging 8 to 9 mile trail with steep inclines and beautiful views. You certainly feel “away from it all” OUT there. And we hope you join us! We will meet at the East Entrance (P4 on the the Myles Standish map and our destination). From there we may do a little car juggling to get down to our trail head\, P5–OR just head out from that point and do one of our favorite OHAC loops! \n  \n**Adventures are typically held rain or shine. Please check Facebook\, Instagram and emails for severe weather cancellations.** \nTerrain: Sandy footing with some steep inclines. State Parks classify this as “difficult”. \nYou need: Proper footwear.  Water and a snack. \nYour Dog needs: Properly fitting harness\, water and snacks. \nParking: Dirt lot/ street side on park road. \nRegistration: https://OutHounds.as.me/pinebarrens \n  \n  \n 
URL:https://outhoundsadventureacademy.com/event/extended-adventure-myles-standish-state-park/
LOCATION:Miles Standish State Park: East Entrance\, 365 Long Pond Rd\, Plymouth\, MA\, 02360
CATEGORIES:Adventure Club
ATTACH;FMTTYPE=image/png:https://outhoundsadventureacademy.com/wp-content/uploads/2022/12/outhoundsadventureguy-1-e1672501644884.png
END:VEVENT
END:VCALENDAR