BEGIN:VCALENDAR
VERSION:2.0
PRODID:-//OutHounds Adventure and Training Academy - ECPv6.15.20//NONSGML v1.0//EN
CALSCALE:GREGORIAN
METHOD:PUBLISH
X-WR-CALNAME:OutHounds Adventure and Training Academy
X-ORIGINAL-URL:https://outhoundsadventureacademy.com
X-WR-CALDESC:Events for OutHounds Adventure and Training Academy
REFRESH-INTERVAL;VALUE=DURATION:PT1H
X-Robots-Tag:noindex
X-PUBLISHED-TTL:PT1H
BEGIN:VTIMEZONE
TZID:America/New_York
BEGIN:DAYLIGHT
TZOFFSETFROM:-0500
TZOFFSETTO:-0400
TZNAME:EDT
DTSTART:20220313T070000
END:DAYLIGHT
BEGIN:STANDARD
TZOFFSETFROM:-0400
TZOFFSETTO:-0500
TZNAME:EST
DTSTART:20221106T060000
END:STANDARD
BEGIN:DAYLIGHT
TZOFFSETFROM:-0500
TZOFFSETTO:-0400
TZNAME:EDT
DTSTART:20230312T070000
END:DAYLIGHT
BEGIN:STANDARD
TZOFFSETFROM:-0400
TZOFFSETTO:-0500
TZNAME:EST
DTSTART:20231105T060000
END:STANDARD
BEGIN:DAYLIGHT
TZOFFSETFROM:-0500
TZOFFSETTO:-0400
TZNAME:EDT
DTSTART:20240310T070000
END:DAYLIGHT
BEGIN:STANDARD
TZOFFSETFROM:-0400
TZOFFSETTO:-0500
TZNAME:EST
DTSTART:20241103T060000
END:STANDARD
END:VTIMEZONE
BEGIN:VEVENT
DTSTART;TZID=America/New_York:20230318T093000
DTEND;TZID=America/New_York:20230318T113000
DTSTAMP:20260421T003436
CREATED:20230301T031412Z
LAST-MODIFIED:20230301T032614Z
UID:11066-1679131800-1679139000@outhoundsadventureacademy.com
SUMMARY:Standard Adventure: Massasoit State Park
DESCRIPTION:This session: \nMassasoit State Park \nMassasoit State Park holds a special place in our Adventure Club hearts; being the site of our first extended adventure. With horses to boot! This park boasts varied terrain and some steep elevation shifts in places\, along with spectacular views of Lake Rico and couple other small bodies of water. Expect about 4-5 miles of hiking on our standard adventure! \n**Adventures are typically held rain or shine. Please check Facebook\, Instagram and emails for severe weather cancellations.** \nTerrain: Rocky and rooted\, some steeper inclines \nYou need: Proper footwear.  Water and a snack. \nYour Dog needs: Properly fitting harness\, water and snacks. \nParking: Paved Lot. \n​Registration: https://OutHounds.as.me/massasoitstatepark \nDirections: https://goo.gl/maps/28EaCHdGWhg8XAEm9​
URL:https://outhoundsadventureacademy.com/event/standard-adventure-massasoit-state-park-4/
LOCATION:Massasoit State Park\, 41.881781\, -70.992235
CATEGORIES:Adventure Club
ATTACH;FMTTYPE=image/png:https://outhoundsadventureacademy.com/wp-content/uploads/2022/09/ohlogo7nobackground-e1663900530973.png
END:VEVENT
END:VCALENDAR