BEGIN:VCALENDAR
VERSION:2.0
PRODID:-//OutHounds Adventure and Training Academy - ECPv6.15.20//NONSGML v1.0//EN
CALSCALE:GREGORIAN
METHOD:PUBLISH
X-WR-CALNAME:OutHounds Adventure and Training Academy
X-ORIGINAL-URL:https://outhoundsadventureacademy.com
X-WR-CALDESC:Events for OutHounds Adventure and Training Academy
REFRESH-INTERVAL;VALUE=DURATION:PT1H
X-Robots-Tag:noindex
X-PUBLISHED-TTL:PT1H
BEGIN:VTIMEZONE
TZID:America/New_York
BEGIN:DAYLIGHT
TZOFFSETFROM:-0500
TZOFFSETTO:-0400
TZNAME:EDT
DTSTART:20220313T070000
END:DAYLIGHT
BEGIN:STANDARD
TZOFFSETFROM:-0400
TZOFFSETTO:-0500
TZNAME:EST
DTSTART:20221106T060000
END:STANDARD
BEGIN:DAYLIGHT
TZOFFSETFROM:-0500
TZOFFSETTO:-0400
TZNAME:EDT
DTSTART:20230312T070000
END:DAYLIGHT
BEGIN:STANDARD
TZOFFSETFROM:-0400
TZOFFSETTO:-0500
TZNAME:EST
DTSTART:20231105T060000
END:STANDARD
BEGIN:DAYLIGHT
TZOFFSETFROM:-0500
TZOFFSETTO:-0400
TZNAME:EDT
DTSTART:20240310T070000
END:DAYLIGHT
BEGIN:STANDARD
TZOFFSETFROM:-0400
TZOFFSETTO:-0500
TZNAME:EST
DTSTART:20241103T060000
END:STANDARD
END:VTIMEZONE
BEGIN:VEVENT
DTSTART;TZID=America/New_York:20230212T093000
DTEND;TZID=America/New_York:20230212T113000
DTSTAMP:20260420T225727
CREATED:20230201T142947Z
LAST-MODIFIED:20230201T143504Z
UID:10781-1676194200-1676201400@outhoundsadventureacademy.com
SUMMARY:Myles Standish State Park Adventure: Bentley Loop
DESCRIPTION:This session: \nMyles Standish - Bentley Loop\n\nMyles Standish State Park is one of Adventure Clubs favorite haunts. We typically enjoy trekking the Pine Barrens trail\, however\, the Bentley Loop and all of its subsidiaries is quickly becoming a favorite as well. This trail boasts varied terrain\, some nice inclines\, and the ability to make the journey anywhere from 3 to 6+ miles! You certainly feel "away from it all" OUT there! We will meet at the Upper College Pond Parking Lot. Blaze orange for both you and your dog is highly encouraged. \n\n**Adventures are typically held rain or shine. Please check Facebook\, Instagram and emails for severe weather cancellations.**\n  \nTerrain: Sandy footing with some steep inclines. State Parks classify this as “difficult”.\n\nYou need: Proper footwear. Brightly colored clothing. Water and a snack. A waist belt is helpful.  \nYour Dog needs: Properly fitting harness\, leash\, water and snacks.  \nParking: Paved Parking Lot \nRegistration: https://OutHounds.as.me/?appointmentType=41127440
URL:https://outhoundsadventureacademy.com/event/myles-standish-state-park-adventure-bentley-loop/
LOCATION:Myles Standish State Park – Bentley Loop\, https://goo.gl/maps/YDwrj55cbHrZxrGu5
CATEGORIES:Adventure Club
ATTACH;FMTTYPE=image/png:https://outhoundsadventureacademy.com/wp-content/uploads/2022/08/cropped-ohlogo7nobackground.png
END:VEVENT
END:VCALENDAR