BEGIN:VCALENDAR
VERSION:2.0
PRODID:-//OutHounds Adventure and Training Academy - ECPv6.15.20//NONSGML v1.0//EN
CALSCALE:GREGORIAN
METHOD:PUBLISH
X-WR-CALNAME:OutHounds Adventure and Training Academy
X-ORIGINAL-URL:https://outhoundsadventureacademy.com
X-WR-CALDESC:Events for OutHounds Adventure and Training Academy
REFRESH-INTERVAL;VALUE=DURATION:PT1H
X-Robots-Tag:noindex
X-PUBLISHED-TTL:PT1H
BEGIN:VTIMEZONE
TZID:UTC
BEGIN:STANDARD
TZOFFSETFROM:+0000
TZOFFSETTO:+0000
TZNAME:UTC
DTSTART:20220101T000000
END:STANDARD
END:VTIMEZONE
BEGIN:VEVENT
DTSTART;TZID=UTC:20230108T100000
DTEND;TZID=UTC:20230108T113000
DTSTAMP:20260423T065320
CREATED:20230103T203159Z
LAST-MODIFIED:20230104T014319Z
UID:10555-1673172000-1673177400@outhoundsadventureacademy.com
SUMMARY:Buzzards Bay Coalition Standard Adventure: The Bogs
DESCRIPTION:This session: \nThe Bogs\n\nThe Bogs has been a long time favorite destination for the Adventure Club\, and it is even more exciting now that OHAC is collaborating with the Buzzards Bay Coalition! The predominantly flat and open trails are great for the beginning hiker\, yet the beauty can be appreciated by all! Adventure Guide Tim does like to lead the group into the forest trail\, which does boast a mild incline and some tricky footing\, depending on the flood stage of the subsequent swamp. Although\, even if we have to double back or risk the dryness of our socks\, we always have a great time out here. (Check out our pictures from the spring!) This a great trail for just getting yourself (and your dog!) OUT and reconnecting with nature. Expect about 3-4 miles of hiking on our standard adventure! \n  \n*While our Standard Adventures are always free\, we encourage you to donate here: https://www.savebuzzardsbay.org/take-action/donate… \n**Adventures are typically held rain or shine. Please check Facebook\, Instagram and emails for severe weather cancellations.** \nTerrain: Mostly flat\, Can become easily flooded.  Does allow hunting in season.\n\nYou need: Proper footwear.  Bright colors recommended.  Water and a snack.  \nYour Dog needs: Properly fitting harness\, water and snacks.  \nParking: Small dirt lot. \nRegistration: https://www.savebuzzardsbay.org/bay-adventures/outhound-adventure-hike/
URL:https://outhoundsadventureacademy.com/event/buzzards-bay-coalition-standard-adventure-the-bogs-2/
LOCATION:The Bogs\, 138 Acushnet Road\, Mattapoisett\, MA\, 02739
CATEGORIES:Adventure Club
ATTACH;FMTTYPE=image/jpeg:https://outhoundsadventureacademy.com/wp-content/uploads/2022/10/buzzardsbaycoallition.jpg
END:VEVENT
END:VCALENDAR