BEGIN:VCALENDAR
VERSION:2.0
PRODID:-//OutHounds Adventure and Training Academy - ECPv6.15.20//NONSGML v1.0//EN
CALSCALE:GREGORIAN
METHOD:PUBLISH
X-ORIGINAL-URL:https://outhoundsadventureacademy.com
X-WR-CALDESC:Events for OutHounds Adventure and Training Academy
REFRESH-INTERVAL;VALUE=DURATION:PT1H
X-Robots-Tag:noindex
X-PUBLISHED-TTL:PT1H
BEGIN:VTIMEZONE
TZID:UTC
BEGIN:STANDARD
TZOFFSETFROM:+0000
TZOFFSETTO:+0000
TZNAME:UTC
DTSTART:20210101T000000
END:STANDARD
END:VTIMEZONE
BEGIN:VEVENT
DTSTART;TZID=UTC:20221218T090000
DTEND;TZID=UTC:20221218T110000
DTSTAMP:20260420T173332
CREATED:20221109T195900Z
LAST-MODIFIED:20221109T195946Z
UID:9076-1671354000-1671361200@outhoundsadventureacademy.com
SUMMARY:Holiday Adventure: Simmons Pond
DESCRIPTION:This session: \nSimmons Pond\n\nJoin us for some true holiday spirit\, at one of our favorite Adventure hikes: Simmons Pond and the “hidden” Christmas Tree Forest. See what happens when nature takes over. It is truly breathtaking! \n\nSimmons Pond is certainly one of OHAC’s favorite Adventures. We suppose any tenderly cared for oasis that boasts tree cookies\, 30 hidden birdhouses\, trail magic\, history lessons\, and a sense of deep pride in a community’s land trust is worthy of “favorite” designation! Path’s here are wide and welcoming with minimal inclines. Parts of the trail can get not only muddy\, but completely flooded–although this tends to be a Springtime occurrence. Expect about 4-5 miles of hiking on our standard adventure!  \n\n**Adventures are held rain or shine.** \nTerrain: Mostly flat\, Some street-side walking\n\nYou need: Proper footwear.  Water and a snack. Signed Release Form. \nYour Dog needs: Properly fitting harness\, water and snacks. \nParking: Dirt lot.  \nRegistration: https://OutHounds.as.me/?appointmentType=38653904 \nLocation: 41.54010906951879\, -71.15437999753786
URL:https://outhoundsadventureacademy.com/event/holiday-adventure-simmons-pond/
LOCATION:Simmons Pond\, 212 Coldbrook Rd\, Little Compton\, RI\, 02837\, United States
CATEGORIES:Adventure Club
ATTACH;FMTTYPE=image/jpeg:https://outhoundsadventureacademy.com/wp-content/uploads/2022/11/escaped-noble-christmas-trees-scaled-e1668005668305.jpg
END:VEVENT
END:VCALENDAR