BEGIN:VCALENDAR
VERSION:2.0
PRODID:-//OutHounds Adventure and Training Academy - ECPv6.15.20//NONSGML v1.0//EN
CALSCALE:GREGORIAN
METHOD:PUBLISH
X-WR-CALNAME:OutHounds Adventure and Training Academy
X-ORIGINAL-URL:https://outhoundsadventureacademy.com
X-WR-CALDESC:Events for OutHounds Adventure and Training Academy
REFRESH-INTERVAL;VALUE=DURATION:PT1H
X-Robots-Tag:noindex
X-PUBLISHED-TTL:PT1H
BEGIN:VTIMEZONE
TZID:UTC
BEGIN:STANDARD
TZOFFSETFROM:+0000
TZOFFSETTO:+0000
TZNAME:UTC
DTSTART:20210101T000000
END:STANDARD
END:VTIMEZONE
BEGIN:VEVENT
DTSTART;TZID=UTC:20221119T090000
DTEND;TZID=UTC:20221119T110000
DTSTAMP:20260420T192540
CREATED:20221017T053033Z
LAST-MODIFIED:20221021T160237Z
UID:8610-1668848400-1668855600@outhoundsadventureacademy.com
SUMMARY:Standard Adventure: Haskell Swamp Wildlife Management Area
DESCRIPTION:This session:\nHaskell Swamp Wildlife Management Area \nDirections are tricky for this! If you are coming off of 195\, head NORTH on North Street at the Mattapoisett Exit 19B. The small wooded lot will be on the RIGHT at ABOUT the drop pin location. There is a sign. \nAs you can tell from the directions\, this is a lesser known patch of swampy awesomeness! There are some nice logging roads\, and certainly some adventurous trekking\, especially if you are looking to avoid getting TOO wet out there. Be sure to bring thick socks\, waterproof boots\, BLAZE ORANGE (this is a Wildlife Management Area after all) and your Exploring Spirit! Let’s go make some trails! \n**Adventures are typically held rain or shine. Please check Facebook\, Instagram and emails for severe weather cancellations.** \nTerrain: Mostly flat\, lots of roots and some tricky footing. Potential to get feet WET \nYou need: Proper footwear.  Water and a snack. Signed Release Form. \nYour Dog needs: Properly fitting harness\, water and snacks. Signed Adventure Contract and EITHER – proof of up-to-date shots or OH Veterinary Release Form. \nParking: Dirt lot. \nRegistration: \nhttps://OutHounds.as.me/?appointmentType=37971088
URL:https://outhoundsadventureacademy.com/event/standard-adventure-haskell-swamp-wildlife-management-area/
LOCATION:Haskell Swamp\, 41.710773\, -70.838491
CATEGORIES:Adventure Club
ATTACH;FMTTYPE=image/jpeg:https://outhoundsadventureacademy.com/wp-content/uploads/2022/08/IMG_1726-scaled.jpg
END:VEVENT
END:VCALENDAR