BEGIN:VCALENDAR
VERSION:2.0
PRODID:-//OutHounds Adventure and Training Academy - ECPv6.15.20//NONSGML v1.0//EN
CALSCALE:GREGORIAN
METHOD:PUBLISH
X-ORIGINAL-URL:https://outhoundsadventureacademy.com
X-WR-CALDESC:Events for OutHounds Adventure and Training Academy
REFRESH-INTERVAL;VALUE=DURATION:PT1H
X-Robots-Tag:noindex
X-PUBLISHED-TTL:PT1H
BEGIN:VTIMEZONE
TZID:UTC
BEGIN:STANDARD
TZOFFSETFROM:+0000
TZOFFSETTO:+0000
TZNAME:UTC
DTSTART:20180101T000000
END:STANDARD
END:VTIMEZONE
BEGIN:VEVENT
DTSTART;TZID=UTC:20190505T100000
DTEND;TZID=UTC:20190505T150000
DTSTAMP:20260421T050927
CREATED:20190429T031544Z
LAST-MODIFIED:20190429T031544Z
UID:6138-1557050400-1557068400@outhoundsadventureacademy.com
SUMMARY:20th Annual New Bedford Pet Fest!
DESCRIPTION:Calling all OutHounds! \nPlease come celebrate New Bedford’s Coalition for Animals at this years 20th annual New Bedford Pet Fest at Buttonwood Park!  OutHounds Adventures will be giving a presentation in the center ring this year showcasing our upcoming class offerings.  Come take a picture on our “log”–frequent fliers will understand!  OHAC will be doing our best to bring a little of the adventure from the trail to the Pet Fest.  Come see what vendors from around the area have to offer–and get some OutHounds Swag! \n 
URL:https://outhoundsadventureacademy.com/event/20th-annual-new-bedford-pet-fest/
LOCATION:Buttonwood Park\, 41.632742\, -70.949486
END:VEVENT
BEGIN:VEVENT
DTSTART;TZID=UTC:20190505T100000
DTEND;TZID=UTC:20190505T150000
DTSTAMP:20260421T050927
CREATED:20190429T031544Z
LAST-MODIFIED:20190429T031544Z
UID:6871-1557050400-1557068400@outhoundsadventureacademy.com
SUMMARY:20th Annual New Bedford Pet Fest!
DESCRIPTION:Calling all OutHounds! \nPlease come celebrate New Bedford’s Coalition for Animals at this years 20th annual New Bedford Pet Fest at Buttonwood Park!  OutHounds Adventures will be giving a presentation in the center ring this year showcasing our upcoming class offerings.  Come take a picture on our “log”–frequent fliers will understand!  OHAC will be doing our best to bring a little of the adventure from the trail to the Pet Fest.  Come see what vendors from around the area have to offer–and get some OutHounds Swag! \n 
URL:https://outhoundsadventureacademy.com/event/20th-annual-new-bedford-pet-fest-2/
LOCATION:Buttonwood Park\, 41.632742\, -70.949486
END:VEVENT
END:VCALENDAR