BEGIN:VCALENDAR
VERSION:2.0
PRODID:-//OutHounds Adventure and Training Academy - ECPv6.15.20//NONSGML v1.0//EN
CALSCALE:GREGORIAN
METHOD:PUBLISH
X-WR-CALNAME:OutHounds Adventure and Training Academy
X-ORIGINAL-URL:https://outhoundsadventureacademy.com
X-WR-CALDESC:Events for OutHounds Adventure and Training Academy
REFRESH-INTERVAL;VALUE=DURATION:PT1H
X-Robots-Tag:noindex
X-PUBLISHED-TTL:PT1H
BEGIN:VTIMEZONE
TZID:UTC
BEGIN:STANDARD
TZOFFSETFROM:+0000
TZOFFSETTO:+0000
TZNAME:UTC
DTSTART:20180101T000000
END:STANDARD
END:VTIMEZONE
BEGIN:VEVENT
DTSTART;TZID=UTC:20190317T103000
DTEND;TZID=UTC:20190317T133000
DTSTAMP:20260425T152441
CREATED:20190312T175523Z
LAST-MODIFIED:20190312T175523Z
UID:5714-1552818600-1552829400@outhoundsadventureacademy.com
SUMMARY:Special FREE Urban Adventure: New Bedford Half Marathon
DESCRIPTION:This Session: \nDowntown New Bedford  \nOn a whim and a prayer\, Tinkle has signed up to run the New Bedford Half Marathon on March 17!  He’s pretty sure he can make–and if not\, he lives in the city and knows plenty of shortcuts! (JUST KIDDING-NBHM Race Committee!!) \nWhat Tinkle would love though\, is the love and support of the OHAC to cheer or egg him on. Race starts downtown at 11 AM–Tinkle–if all goes according to plan\, should be wrapping up by 1 PM.  We will begin our Downtown Urban Adventure at the Whaling Museum at 10:30 and walk together to the race start on Pleasant Street. \nWe hope you can make it to this FREE event!
URL:https://outhoundsadventureacademy.com/event/special-free-urban-adventure-new-bedford-half-marathon/
LOCATION:New Bedford Whaling Museum\, 41.635524\, -70.923348
END:VEVENT
BEGIN:VEVENT
DTSTART;TZID=UTC:20190317T103000
DTEND;TZID=UTC:20190317T133000
DTSTAMP:20260425T152441
CREATED:20190312T175523Z
LAST-MODIFIED:20190312T175523Z
UID:6851-1552818600-1552829400@outhoundsadventureacademy.com
SUMMARY:Special FREE Urban Adventure: New Bedford Half Marathon
DESCRIPTION:This Session: \nDowntown New Bedford  \nOn a whim and a prayer\, Tinkle has signed up to run the New Bedford Half Marathon on March 17!  He’s pretty sure he can make–and if not\, he lives in the city and knows plenty of shortcuts! (JUST KIDDING-NBHM Race Committee!!) \nWhat Tinkle would love though\, is the love and support of the OHAC to cheer or egg him on. Race starts downtown at 11 AM–Tinkle–if all goes according to plan\, should be wrapping up by 1 PM.  We will begin our Downtown Urban Adventure at the Whaling Museum at 10:30 and walk together to the race start on Pleasant Street. \nWe hope you can make it to this FREE event!
URL:https://outhoundsadventureacademy.com/event/special-free-urban-adventure-new-bedford-half-marathon-2/
LOCATION:New Bedford Whaling Museum\, 41.635524\, -70.923348
END:VEVENT
END:VCALENDAR