BEGIN:VCALENDAR
VERSION:2.0
PRODID:-//OutHounds Adventure and Training Academy - ECPv6.15.20//NONSGML v1.0//EN
CALSCALE:GREGORIAN
METHOD:PUBLISH
X-WR-CALNAME:OutHounds Adventure and Training Academy
X-ORIGINAL-URL:https://outhoundsadventureacademy.com
X-WR-CALDESC:Events for OutHounds Adventure and Training Academy
REFRESH-INTERVAL;VALUE=DURATION:PT1H
X-Robots-Tag:noindex
X-PUBLISHED-TTL:PT1H
BEGIN:VTIMEZONE
TZID:UTC
BEGIN:STANDARD
TZOFFSETFROM:+0000
TZOFFSETTO:+0000
TZNAME:UTC
DTSTART:20180101T000000
END:STANDARD
END:VTIMEZONE
BEGIN:VEVENT
DTSTART;TZID=UTC:20190316T080000
DTEND;TZID=UTC:20190316T100000
DTSTAMP:20260421T062110
CREATED:20190227T080607Z
LAST-MODIFIED:20190227T080607Z
UID:5584-1552723200-1552730400@outhoundsadventureacademy.com
SUMMARY:Standard Adventure: Shaw Farm Trail
DESCRIPTION:This session:\nShaw Farm Trail \nWe will begin our Shaw Farm Adventure on the popular Phoenix Bike Trail by the Fairhaven Little League fields. This Adventure will take us through mostly flat trails through the woods and down to Nasketucket Bay to enjoy beautiful water views! This is an especially scenic Adventure we hope you will all enjoy! *Remember it’s winter\, so bundle up in preparation for the cool wind coming in from the bay! \n10% of Adventure fees will be donated to the State Parks\, Land Trusts\, or organization responsible for the maintenance of the trails we visit. \nAdventures are early morning events. To maximize participants’ experiences\, it is important to beat the heat in the warmer months and hit the trails before they become busier as the day wears onward. \n**Adventures are held rain or shine.** \nPrerequisites: Veterinary release form; If this is your FIRST adventure\, please be to trail 15 minutes early to fill out paperwork. \n  \n 
URL:https://outhoundsadventureacademy.com/event/shaw-farm-trail/
LOCATION:Shaw Farm Trail\, 41.647179\, -70.849418
END:VEVENT
BEGIN:VEVENT
DTSTART;TZID=UTC:20190316T080000
DTEND;TZID=UTC:20190316T100000
DTSTAMP:20260421T062110
CREATED:20190227T080607Z
LAST-MODIFIED:20190227T080607Z
UID:6841-1552723200-1552730400@outhoundsadventureacademy.com
SUMMARY:Standard Adventure: Shaw Farm Trail
DESCRIPTION:This session:\nShaw Farm Trail \nWe will begin our Shaw Farm Adventure on the popular Phoenix Bike Trail by the Fairhaven Little League fields. This Adventure will take us through mostly flat trails through the woods and down to Nasketucket Bay to enjoy beautiful water views! This is an especially scenic Adventure we hope you will all enjoy! *Remember it’s winter\, so bundle up in preparation for the cool wind coming in from the bay! \n10% of Adventure fees will be donated to the State Parks\, Land Trusts\, or organization responsible for the maintenance of the trails we visit. \nAdventures are early morning events. To maximize participants’ experiences\, it is important to beat the heat in the warmer months and hit the trails before they become busier as the day wears onward. \n**Adventures are held rain or shine.** \nPrerequisites: Veterinary release form; If this is your FIRST adventure\, please be to trail 15 minutes early to fill out paperwork. \n  \n 
URL:https://outhoundsadventureacademy.com/event/shaw-farm-trail-2/
LOCATION:Shaw Farm Trail\, 41.647179\, -70.849418
END:VEVENT
BEGIN:VEVENT
DTSTART;TZID=UTC:20190316T101500
DTEND;TZID=UTC:20190316T111500
DTSTAMP:20260421T062110
CREATED:20190305T175305Z
LAST-MODIFIED:20190305T175305Z
UID:5674-1552731300-1552734900@outhoundsadventureacademy.com
SUMMARY:Lite Adventure: Shaw Farm Trail
DESCRIPTION:This session:\nShaw Farm Trail \nWe will begin our Shaw Farm Adventure on the popular Phoenix Bike Trail by the Fairhaven Little League fields. This Adventure will take us through mostly flat trails through the woods and down to Nasketucket Bay to enjoy beautiful water views! This is an especially scenic Adventure we hope you will all enjoy! *Remember it’s winter\, so bundle up in preparation for the cool wind coming in from the bay! \n10% of Adventure fees will be donated to the State Parks\, Land Trusts\, or organization responsible for the maintenance of the trails we visit. \nAdventures are early morning events. To maximize participants’ experiences\, it is important to beat the heat in the warmer months and hit the trails before they become busier as the day wears onward. \n**Adventures are held rain or shine.** \nPrerequisites: Veterinary release form; If this is your FIRST adventure\, please be to trail 15 minutes early to fill out paperwork. \n  \n 
URL:https://outhoundsadventureacademy.com/event/lite-adventure-shaw-farm-trail/
LOCATION:Shaw Farm Trail\, 41.647179\, -70.849418
END:VEVENT
BEGIN:VEVENT
DTSTART;TZID=UTC:20190316T101500
DTEND;TZID=UTC:20190316T111500
DTSTAMP:20260421T062110
CREATED:20190305T175305Z
LAST-MODIFIED:20190305T175305Z
UID:6848-1552731300-1552734900@outhoundsadventureacademy.com
SUMMARY:Lite Adventure: Shaw Farm Trail
DESCRIPTION:This session:\nShaw Farm Trail \nWe will begin our Shaw Farm Adventure on the popular Phoenix Bike Trail by the Fairhaven Little League fields. This Adventure will take us through mostly flat trails through the woods and down to Nasketucket Bay to enjoy beautiful water views! This is an especially scenic Adventure we hope you will all enjoy! *Remember it’s winter\, so bundle up in preparation for the cool wind coming in from the bay! \n10% of Adventure fees will be donated to the State Parks\, Land Trusts\, or organization responsible for the maintenance of the trails we visit. \nAdventures are early morning events. To maximize participants’ experiences\, it is important to beat the heat in the warmer months and hit the trails before they become busier as the day wears onward. \n**Adventures are held rain or shine.** \nPrerequisites: Veterinary release form; If this is your FIRST adventure\, please be to trail 15 minutes early to fill out paperwork. \n  \n 
URL:https://outhoundsadventureacademy.com/event/lite-adventure-shaw-farm-trail-2/
LOCATION:Shaw Farm Trail\, 41.647179\, -70.849418
END:VEVENT
END:VCALENDAR